Workbook

Sheet Resumen
A1: Anexo 2 · Atención de inconformidades — año 2025
A2: Datos de los gráficos del Informe de Gestión. DPDI, Defensoría de los Habitantes de la República.
A4: Indicador | B4: Valor
A5: Total de casos atendidos | B5: =COUNTA(Casos!$A$5:$A$26) -> 22
A6: Mes de mayor carga | B6: =INDEX('01 Mensual'!A5:A14,MATCH(MAX('01 Mensual'!B5:B14),'01 Mensual'!B5:B14,0)) -> Ago
A7: Casos en el mes de mayor carga | B7: =MAX('01 Mensual'!B5:B14) -> 5
A8: Casos en julio–agosto | B8: ='01 Mensual'!B11+'01 Mensual'!B12 -> 9
A9: % julio–agosto | B9: =B8/B5 -> 0.40909091
A10: % segundo semestre | B10: ='03 Semestral'!C6 -> 0.59090909
A11: Concentración de los 3 tipos principales | B11: ='02 Tipos'!C18 -> 0.54545455
A12: Casos por falta de servicio LESCO | B12: ='02 Tipos'!B9 -> 2
A15: Hoja | B15: Contenido
A16: Casos | B16: Base de datos: los 22 casos con mes, semestre y tipo (Anexo 1).
A17: 01 Mensual | B17: Distribución mensual de casos y gráfico de columnas.
A18: 02 Tipos | B18: Clasificación por tipo de inconformidad y gráfico de barras.
A19: 03 Semestral | B19: Concentración semestral (anillo) y tendencia acumulada (línea).
A20: 04 Plan de acción | B20: Cronograma 2026 del plan de acción (diagrama de Gantt).
A22: Fuente: Informe de Gestión — Atención de Inconformidades, DPDI, Defensoría de los Habitantes. Elaboración propia, 2026. Supuestos de conciliación: AU-002 (sin fecha) asignado a agosto; AU-011 contabilizado en dos tipos. Ver comentarios en la hoja Casos.

Sheet Casos
A1: Listado de casos 2025 — base de datos
A2: Anexo 1 del informe. Todas las hojas y gráficos se calculan a partir de esta tabla.
A4: ID | B4: Asunto | C4: Fecha registrada | D4: Mes (n.º) | E4: Mes | F4: Semestre | G4: Tipo principal | H4: Tipo secundario
A5: AU-001-2025 | B5: Queja por denuncia pendiente de cierre | C5: 6 enero 2025 | D5: 1 | E5: =CHOOSE(D5,"Enero","Febrero","Marzo","Abril","Mayo","Junio","Julio","Agosto","Septiembre","Octubre","Noviembre","Diciembre") -> Enero | F5: =IF(D5<=6,"1er semestre","2do semestre") -> 1er semestre | G5: Queja por archivo de denuncia
A6: AU-002-2025 | B6: Mala atención de Oficina Regional Pacífico Central | C6: Fecha no especificada | D6: 8 | E6: =CHOOSE(D6,"Enero","Febrero","Marzo","Abril","Mayo","Junio","Julio","Agosto","Septiembre","Octubre","Noviembre","Diciembre") -> Agosto | F6: =IF(D6<=6,"1er semestre","2do semestre") -> 2do semestre | G6: Mala atención al usuario
A7: AU-003-2025 | B7: Desacuerdo con cierre del expediente | C7: 15 marzo 2025 | D7: 3 | E7: =CHOOSE(D7,"Enero","Febrero","Marzo","Abril","Mayo","Junio","Julio","Agosto","Septiembre","Octubre","Noviembre","Diciembre") -> Marzo | F7: =IF(D7<=6,"1er semestre","2do semestre") -> 1er semestre | G7: Desacuerdo con cierre de expediente
A8: AU-004-2025 | B8: Mala atención de mi denuncia | C8: 7 marzo 2025 | D8: 3 | E8: =CHOOSE(D8,"Enero","Febrero","Marzo","Abril","Mayo","Junio","Julio","Agosto","Septiembre","Octubre","Noviembre","Diciembre") -> Marzo | F8: =IF(D8<=6,"1er semestre","2do semestre") -> 1er semestre | G8: Mala atención al usuario
A9: AU-005-2025 | B9: Mala atención telefónica | C9: 2 abril 2025 | D9: 4 | E9: =CHOOSE(D9,"Enero","Febrero","Marzo","Abril","Mayo","Junio","Julio","Agosto","Septiembre","Octubre","Noviembre","Diciembre") -> Abril | F9: =IF(D9<=6,"1er semestre","2do semestre") -> 1er semestre | G9: Mala atención al usuario
A10: AU-006-2025 | B10: Atraso en su expediente | C10: 8 abril 2025 | D10: 4 | E10: =CHOOSE(D10,"Enero","Febrero","Marzo","Abril","Mayo","Junio","Julio","Agosto","Septiembre","Octubre","Noviembre","Diciembre") -> Abril | F10: =IF(D10<=6,"1er semestre","2do semestre") -> 1er semestre | G10: Atrasos y dilaciones en trámites
A11: AU-007-2025 | B11: Atraso en su expediente | C11: 23 abril 2025 | D11: 4 | E11: =CHOOSE(D11,"Enero","Febrero","Marzo","Abril","Mayo","Junio","Julio","Agosto","Septiembre","Octubre","Noviembre","Diciembre") -> Abril | F11: =IF(D11<=6,"1er semestre","2do semestre") -> 1er semestre | G11: Atrasos y dilaciones en trámites
A12: AU-008-2025 | B12: Traducción de LESCO | C12: Mayo 2025 | D12: 5 | E12: =CHOOSE(D12,"Enero","Febrero","Marzo","Abril","Mayo","Junio","Julio","Agosto","Septiembre","Octubre","Noviembre","Diciembre") -> Mayo | F12: =IF(D12<=6,"1er semestre","2do semestre") -> 1er semestre | G12: Falta de servicios de traducción LESCO
A13: AU-009-2025 | B13: Estado de su gestión | C13: Junio 2025 | D13: 6 | E13: =CHOOSE(D13,"Enero","Febrero","Marzo","Abril","Mayo","Junio","Julio","Agosto","Septiembre","Octubre","Noviembre","Diciembre") -> Junio | F13: =IF(D13<=6,"1er semestre","2do semestre") -> 1er semestre | G13: Problemas de comunicación con funcionarios
A14: AU-010-2025 | B14: No logra comunicarse con el funcionario | C14: 17 junio 2025 | D14: 6 | E14: =CHOOSE(D14,"Enero","Febrero","Marzo","Abril","Mayo","Junio","Julio","Agosto","Septiembre","Octubre","Noviembre","Diciembre") -> Junio | F14: =IF(D14<=6,"1er semestre","2do semestre") -> 1er semestre | G14: Problemas de comunicación con funcionarios
A15: AU-011-2025 | B15: Falta de traductor de LESCO | C15: 15 julio 2025 | D15: 7 | E15: =CHOOSE(D15,"Enero","Febrero","Marzo","Abril","Mayo","Junio","Julio","Agosto","Septiembre","Octubre","Noviembre","Diciembre") -> Julio | F15: =IF(D15<=6,"1er semestre","2do semestre") -> 2do semestre | G15: Falta de servicios de traducción LESCO | H15: Problemas de comunicación con funcionarios
A16: AU-012-2025 | B16: Muchas trabas para presentar su denuncia | C16: 22 julio 2025 | D16: 7 | E16: =CHOOSE(D16,"Enero","Febrero","Marzo","Abril","Mayo","Junio","Julio","Agosto","Septiembre","Octubre","Noviembre","Diciembre") -> Julio | F16: =IF(D16<=6,"1er semestre","2do semestre") -> 2do semestre | G16: Trabas para presentar denuncia
A17: AU-013-2025 | B17: Lentitud de la institución ante los procedimientos | C17: 24 julio 2025 | D17: 7 | E17: =CHOOSE(D17,"Enero","Febrero","Marzo","Abril","Mayo","Junio","Julio","Agosto","Septiembre","Octubre","Noviembre","Diciembre") -> Julio | F17: =IF(D17<=6,"1er semestre","2do semestre") -> 2do semestre | G17: Atrasos y dilaciones en trámites
A18: AU-014-2025 | B18: Falta oportuna de respuesta | C18: 31 julio 2025 | D18: 7 | E18: =CHOOSE(D18,"Enero","Febrero","Marzo","Abril","Mayo","Junio","Julio","Agosto","Septiembre","Octubre","Noviembre","Diciembre") -> Julio | F18: =IF(D18<=6,"1er semestre","2do semestre") -> 2do semestre | G18: Atrasos y dilaciones en trámites
A19: AU-015-2025 | B19: Falta de respuesta escrita oportuna | C19: 13 agosto 2025 | D19: 8 | E19: =CHOOSE(D19,"Enero","Febrero","Marzo","Abril","Mayo","Junio","Julio","Agosto","Septiembre","Octubre","Noviembre","Diciembre") -> Agosto | F19: =IF(D19<=6,"1er semestre","2do semestre") -> 2do semestre | G19: Falta de respuesta escrita / recursos
A20: AU-016-2025 | B20: Compatibilidad de Pastoral Educativa con neutralidad religiosa | C20: 18 agosto 2025 | D20: 8 | E20: =CHOOSE(D20,"Enero","Febrero","Marzo","Abril","Mayo","Junio","Julio","Agosto","Septiembre","Octubre","Noviembre","Diciembre") -> Agosto | F20: =IF(D20<=6,"1er semestre","2do semestre") -> 2do semestre | G20: Casos educativos específicos
A21: AU-017-2025 | B21: Deficiencias en atención educativa y restricciones a menores | C21: 18 agosto 2025 | D21: 8 | E21: =CHOOSE(D21,"Enero","Febrero","Marzo","Abril","Mayo","Junio","Julio","Agosto","Septiembre","Octubre","Noviembre","Diciembre") -> Agosto | F21: =IF(D21<=6,"1er semestre","2do semestre") -> 2do semestre | G21: Casos educativos específicos
A22: AU-018-2025 | B22: Falta de respuesta a recurso de reconsideración y entrega de investigación | C22: Agosto 2025 | D22: 8 | E22: =CHOOSE(D22,"Enero","Febrero","Marzo","Abril","Mayo","Junio","Julio","Agosto","Septiembre","Octubre","Noviembre","Diciembre") -> Agosto | F22: =IF(D22<=6,"1er semestre","2do semestre") -> 2do semestre | G22: Atrasos y dilaciones en trámites
A23: AU-019-2025 | B23: Solicitud de intervención ante CONAPDIS por información falsa en expediente | C23: 8 septiembre 2025 | D23: 9 | E23: =CHOOSE(D23,"Enero","Febrero","Marzo","Abril","Mayo","Junio","Julio","Agosto","Septiembre","Octubre","Noviembre","Diciembre") -> Septiembre | F23: =IF(D23<=6,"1er semestre","2do semestre") -> 2do semestre | G23: Beneficios por discapacidad
A24: AU-020-2025 | B24: Resolución de Recurso de Reconsideración | C24: 1 septiembre 2025 | D24: 9 | E24: =CHOOSE(D24,"Enero","Febrero","Marzo","Abril","Mayo","Junio","Julio","Agosto","Septiembre","Octubre","Noviembre","Diciembre") -> Septiembre | F24: =IF(D24<=6,"1er semestre","2do semestre") -> 2do semestre | G24: Falta de respuesta escrita / recursos
A25: AU-021-2025 | B25: Queja sobre recurso de reconsideración y falta de investigación | C25: 10 septiembre 2025 | D25: 9 | E25: =CHOOSE(D25,"Enero","Febrero","Marzo","Abril","Mayo","Junio","Julio","Agosto","Septiembre","Octubre","Noviembre","Diciembre") -> Septiembre | F25: =IF(D25<=6,"1er semestre","2do semestre") -> 2do semestre | G25: Falta de respuesta escrita / recursos
A26: AU-022-2025 | B26: Intentos fallidos de comunicación | C26: 31 octubre 2025 | D26: 10 | E26: =CHOOSE(D26,"Enero","Febrero","Marzo","Abril","Mayo","Junio","Julio","Agosto","Septiembre","Octubre","Noviembre","Diciembre") -> Octubre | F26: =IF(D26<=6,"1er semestre","2do semestre") -> 2do semestre | G26: Problemas de comunicación con funcionarios
A28: Celdas en azul: datos editables (mes y tipo, con listas desplegables). Celdas en amarillo: supuestos de conciliación con el Anexo 2 (ver comentarios).

Sheet 01 Mensual
A1: 01 · Distribución mensual de casos — 2025
A2: Número de inconformidades recibidas por mes. En color, el mes de mayor carga.
A4: Mes | B4: Casos | C4: % del total
A5: Ene | B5: =COUNTIF(Casos!$D$5:$D$26,1) -> 1 | C5: =B5/$B$15 -> 0.045454545
A6: Feb | B6: =COUNTIF(Casos!$D$5:$D$26,2) -> 0 | C6: =B6/$B$15 -> 0
A7: Mar | B7: =COUNTIF(Casos!$D$5:$D$26,3) -> 2 | C7: =B7/$B$15 -> 0.090909091
A8: Abr | B8: =COUNTIF(Casos!$D$5:$D$26,4) -> 3 | C8: =B8/$B$15 -> 0.13636364
A9: May | B9: =COUNTIF(Casos!$D$5:$D$26,5) -> 1 | C9: =B9/$B$15 -> 0.045454545
A10: Jun | B10: =COUNTIF(Casos!$D$5:$D$26,6) -> 2 | C10: =B10/$B$15 -> 0.090909091
A11: Jul | B11: =COUNTIF(Casos!$D$5:$D$26,7) -> 4 | C11: =B11/$B$15 -> 0.18181818
A12: Ago | B12: =COUNTIF(Casos!$D$5:$D$26,8) -> 5 | C12: =B12/$B$15 -> 0.22727273
A13: Sep | B13: =COUNTIF(Casos!$D$5:$D$26,9) -> 3 | C13: =B13/$B$15 -> 0.13636364
A14: Oct | B14: =COUNTIF(Casos!$D$5:$D$26,10) -> 1 | C14: =B14/$B$15 -> 0.045454545
A15: Total | B15: =SUM(B5:B14) -> 22 | C15: =SUM(C5:C14) -> 1
A17: Noviembre y diciembre sin casos registrados. AU-002 (sin fecha) asignado a agosto.

Sheet 02 Tipos
A1: 02 · Clasificación por tipo de inconformidad — 2025
A2: Casos agrupados por problemática principal. Los tres tipos resaltados concentran la mayor parte.
A4: Tipo de inconformidad | B4: Casos | C4: % sobre 22 casos
A5: Atrasos y dilaciones en trámites | B5: =COUNTIF(Casos!$G$5:$G$26,A5)+COUNTIF(Casos!$H$5:$H$26,A5) -> 5 | C5: =B5/$B$17 -> 0.22727273
A6: Problemas de comunicación con funcionarios | B6: =COUNTIF(Casos!$G$5:$G$26,A6)+COUNTIF(Casos!$H$5:$H$26,A6) -> 4 | C6: =B6/$B$17 -> 0.18181818
A7: Mala atención al usuario | B7: =COUNTIF(Casos!$G$5:$G$26,A7)+COUNTIF(Casos!$H$5:$H$26,A7) -> 3 | C7: =B7/$B$17 -> 0.13636364
A8: Falta de respuesta escrita / recursos | B8: =COUNTIF(Casos!$G$5:$G$26,A8)+COUNTIF(Casos!$H$5:$H$26,A8) -> 3 | C8: =B8/$B$17 -> 0.13636364
A9: Falta de servicios de traducción LESCO | B9: =COUNTIF(Casos!$G$5:$G$26,A9)+COUNTIF(Casos!$H$5:$H$26,A9) -> 2 | C9: =B9/$B$17 -> 0.090909091
A10: Casos educativos específicos | B10: =COUNTIF(Casos!$G$5:$G$26,A10)+COUNTIF(Casos!$H$5:$H$26,A10) -> 2 | C10: =B10/$B$17 -> 0.090909091
A11: Beneficios por discapacidad | B11: =COUNTIF(Casos!$G$5:$G$26,A11)+COUNTIF(Casos!$H$5:$H$26,A11) -> 1 | C11: =B11/$B$17 -> 0.045454545
A12: Desacuerdo con cierre de expediente | B12: =COUNTIF(Casos!$G$5:$G$26,A12)+COUNTIF(Casos!$H$5:$H$26,A12) -> 1 | C12: =B12/$B$17 -> 0.045454545
A13: Trabas para presentar denuncia | B13: =COUNTIF(Casos!$G$5:$G$26,A13)+COUNTIF(Casos!$H$5:$H$26,A13) -> 1 | C13: =B13/$B$17 -> 0.045454545
A14: Queja por archivo de denuncia | B14: =COUNTIF(Casos!$G$5:$G$26,A14)+COUNTIF(Casos!$H$5:$H$26,A14) -> 1 | C14: =B14/$B$17 -> 0.045454545
A15: Menciones (suma de la columna) | B15: =SUM(B5:B14) -> 23 | C15: =SUM(C5:C14) -> 1.0454545
A17: Casos únicos | B17: =COUNTA(Casos!$A$5:$A$26) -> 22
A18: Concentración de los 3 tipos principales | B18: =SUM(B5:B7) -> 12 | C18: =B18/B17 -> 0.54545455
A20: Las menciones suman una más que los casos porque AU-011 cuenta en dos tipos (LESCO y comunicación), igual que en el informe; por eso los porcentajes suman más de 100%.

Sheet 03 Semestral
A1: 03 · Concentración semestral y tendencia acumulada
A2: Comparación entre semestres y ritmo de acumulación de casos a lo largo del año.
A4: Semestre | B4: Casos | C4: %
A5: 1er semestre | B5: =COUNTIF(Casos!$F$5:$F$26,A5) -> 9 | C5: =B5/$B$7 -> 0.40909091
A6: 2do semestre | B6: =COUNTIF(Casos!$F$5:$F$26,A6) -> 13 | C6: =B6/$B$7 -> 0.59090909
A7: Total | B7: =SUM(B5:B6) -> 22 | C7: =SUM(C5:C6) -> 1
A10: Mes | B10: Casos del mes | C10: Acumulado
A11: ='01 Mensual'!A5 -> Ene | B11: ='01 Mensual'!B5 -> 1 | C11: =B11 -> 1
A12: ='01 Mensual'!A6 -> Feb | B12: ='01 Mensual'!B6 -> 0 | C12: =C11+B12 -> 1
A13: ='01 Mensual'!A7 -> Mar | B13: ='01 Mensual'!B7 -> 2 | C13: =C12+B13 -> 3
A14: ='01 Mensual'!A8 -> Abr | B14: ='01 Mensual'!B8 -> 3 | C14: =C13+B14 -> 6
A15: ='01 Mensual'!A9 -> May | B15: ='01 Mensual'!B9 -> 1 | C15: =C14+B15 -> 7
A16: ='01 Mensual'!A10 -> Jun | B16: ='01 Mensual'!B10 -> 2 | C16: =C15+B16 -> 9
A17: ='01 Mensual'!A11 -> Jul | B17: ='01 Mensual'!B11 -> 4 | C17: =C16+B17 -> 13
A18: ='01 Mensual'!A12 -> Ago | B18: ='01 Mensual'!B12 -> 5 | C18: =C17+B18 -> 18
A19: ='01 Mensual'!A13 -> Sep | B19: ='01 Mensual'!B13 -> 3 | C19: =C18+B19 -> 21
A20: ='01 Mensual'!A14 -> Oct | B20: ='01 Mensual'!B14 -> 1 | C20: =C19+B20 -> 22
A22: Casos del mes enlazados a la hoja 01 (texto verde).

Sheet 04 Plan de acción
A1: 04 · Plan de acción propuesto — cronograma 2026
A2: Cronograma de implementación del nuevo procedimiento, por acción, responsable y plazo.
A4: Acción | B4: Responsable | C4: Inicio | D4: Fecha límite | E4: Plazo | F4: Días | G4: Inicio (gráfico)
A5: Aprobación formal | B5: DPDI | C5: 46023 | D5: 46081 | E5: =CHOOSE(MONTH(D5),"Enero","Febrero","Marzo","Abril","Mayo","Junio","Julio","Agosto","Septiembre","Octubre","Noviembre","Diciembre")&" "&YEAR(D5) -> Febrero 2026 | F5: =D5-C5+1 -> 59 | G5: =C5 -> 46023
A6: Comunicación institucional | B6: Despacho + DPDI | C6: 46023 | D6: 46081 | E6: =CHOOSE(MONTH(D6),"Enero","Febrero","Marzo","Abril","Mayo","Junio","Julio","Agosto","Septiembre","Octubre","Noviembre","Diciembre")&" "&YEAR(D6) -> Febrero 2026 | F6: =D6-C6+1 -> 59 | G6: =C6 -> 46023
A7: Capacitación al personal | B7: DPDI | C7: 46054 | D7: 46112 | E7: =CHOOSE(MONTH(D7),"Enero","Febrero","Marzo","Abril","Mayo","Junio","Julio","Agosto","Septiembre","Octubre","Noviembre","Diciembre")&" "&YEAR(D7) -> Marzo 2026 | F7: =D7-C7+1 -> 59 | G7: =C7 -> 46054
A8: Habilitación de canales | B8: DPDI + TI | C8: 46054 | D8: 46112 | E8: =CHOOSE(MONTH(D8),"Enero","Febrero","Marzo","Abril","Mayo","Junio","Julio","Agosto","Septiembre","Octubre","Noviembre","Diciembre")&" "&YEAR(D8) -> Marzo 2026 | F8: =D8-C8+1 -> 59 | G8: =C8 -> 46054
A9: Servicio LESCO | B9: Administración + DPDI | C9: 46082 | D9: 46142 | E9: =CHOOSE(MONTH(D9),"Enero","Febrero","Marzo","Abril","Mayo","Junio","Julio","Agosto","Septiembre","Octubre","Noviembre","Diciembre")&" "&YEAR(D9) -> Abril 2026 | F9: =D9-C9+1 -> 61 | G9: =C9 -> 46082
A10: Protocolo casos ambiguos | B10: DPDI + Jurídico | C10: 46082 | D10: 46173 | E10: =CHOOSE(MONTH(D10),"Enero","Febrero","Marzo","Abril","Mayo","Junio","Julio","Agosto","Septiembre","Octubre","Noviembre","Diciembre")&" "&YEAR(D10) -> Mayo 2026 | F10: =D10-C10+1 -> 92 | G10: =C10 -> 46082
A11: Sistema de información | B11: TI + DPDI | C11: 46113 | D11: 46203 | E11: =CHOOSE(MONTH(D11),"Enero","Febrero","Marzo","Abril","Mayo","Junio","Julio","Agosto","Septiembre","Octubre","Noviembre","Diciembre")&" "&YEAR(D11) -> Junio 2026 | F11: =D11-C11+1 -> 91 | G11: =C11 -> 46113
A12: Primera evaluación | B12: DPDI | C12: 46174 | D12: 46234 | E12: =CHOOSE(MONTH(D12),"Enero","Febrero","Marzo","Abril","Mayo","Junio","Julio","Agosto","Septiembre","Octubre","Noviembre","Diciembre")&" "&YEAR(D12) -> Julio 2026 | F12: =D12-C12+1 -> 61 | G12: =C12 -> 46174
A14: Inicio y fecha límite en azul son editables; el plazo, la duración y el gráfico se recalculan. La columna G es auxiliar para el gráfico (fecha como número).
